BEGIN:VCALENDAR
VERSION:2.0
PRODID:-//wp-events-plugin.com//6.6.5//EN
BEGIN:VEVENT
UID:1918@bedfordshirefreemasons.org
DTSTART:20261101T193000Z
DTEND:20261101T220000Z
DTSTAMP:20260419T152726Z
URL:https://www.bedfordshirefreemasons.org/events/the-abba-tribute-forever
 -live-in-concert/
SUMMARY:The ABBA tribute Forever Live in Concert
DESCRIPTION:\n\nEXTRA PREMIUM SEATS RELEASED TODAY@THE GROVE COME AND JOIN 
 MARTIN &amp\; SWEENEY ENTERTAINMENTS FOR AN EXCLUSIVE EVENING AT OUR VERY 
 OWN PRESTIGIOUS &amp\; LOCAL THEATRE IN DUNSTABLE AT THE GROVE FOR THIS ON
 E NIGHT ONLY CONCERT / SHOW WITH THE INCREDIBLE AND UNMISSABLE BAND ABBA F
 OREVER LIVE IN CONCERT\, RECOGNISED AS ONE OF THE BEST TRIBUTE BANDS WITH 
 AUDIENCES WORLDWIDE HAVING BEEN THRILLED WITH THEIR SELL-OUT CONCERT/SHOWS
  &amp\; PERFORMANCES\n\nIN THIS AMAZING LIVE SHOW / CONCERT THE UNIQUE ABB
 A SOUND IS PROFESSIONALLY REPLICATED WITH INCREDIBLE ATTENTION TO DETAIL U
 SING A SIX PIECE BAND FEATURING ELECTRIC AND ACOUSTIC GUITARS\, KEYBOARDS 
 AND PIANO\, DRUMS AND BASS GUITAR AN INCREDIBLE LANDMARK IN THEIR CAREER W
 AS THEIR SIXTH AND AMAZING SELL-OUT TOUR OF SWEDEN HOME TO THE ORIGINAL AB
 BA \n\nDATE : SUNDAY 1ST NOVEMBER 2026 AT 19.30HRS\n\nVENUE : GROVE THEATR
 E\, GROVE PARK\, DUNSTABLE LU5 4GP \n\nTICKET : ONLY £34.50 - PREMIUM SEA
 T - NORMAL PRICE £38.50 \n\nMEDIA : MARTIN ROWE - PRIORITY BOOKINGS &amp\
 ; DISCOUNT \n\nBOOKINGS : promotor05@yahoo.co.uk or rowe494@btinternet.com
 \n\nPAYMENT MUST BE RECEIVED NO LATER THAN 12TH SEPTEMBER 2026 \n\nhttps:/
 /www.youtube.com/watch?v=t0PQ7cgMk28 
CATEGORIES:Social
LOCATION:The Grove Theatre\, Grove Park Court Drive \, Dunstable \, Bedford
 shire \, LU5 4GP\, United Kingdom
GEO:51.890261;-0.521242
X-APPLE-STRUCTURED-LOCATION;VALUE=URI;X-ADDRESS=Grove Park Court Drive \, D
 unstable \, Bedfordshire \, LU5 4GP\, United Kingdom;X-APPLE-RADIUS=100;X-
 TITLE=The Grove Theatre:geo:51.890261,-0.521242
END:VEVENT
END:VCALENDAR