BEGIN:VCALENDAR
VERSION:2.0
PRODID:-//wp-events-plugin.com//6.6.5//EN
BEGIN:VEVENT
UID:1911@bedfordshirefreemasons.org
DTSTART:20260815T093000Z
DTEND:20260815T113000Z
DTSTAMP:20260412T095119Z
URL:https://www.bedfordshirefreemasons.org/events/friends-of-bedfordshire-
 freemasons-veterans-serving-armed-forces-emergency-services-5/
SUMMARY:Friends of Bedfordshire Freemasons - Veterans/Serving Armed Forces 
 & Emergency Services
DESCRIPTION:A breakfast gathering at 9:30am\, Wingfield Club\, Ampthill.\n\
 nTo make contact email vblbreakfast@outlook.com\n\n
CATEGORIES:Social
LOCATION:The Wingfield Club\, 37 Church Street\, Ampthill\, MK45 2PL\, Unit
 ed Kingdom
GEO:52.032349;-0.490562
X-APPLE-STRUCTURED-LOCATION;VALUE=URI;X-ADDRESS=37 Church Street\, Ampthill
 \, MK45 2PL\, United Kingdom;X-APPLE-RADIUS=100;X-TITLE=The Wingfield Club
 :geo:52.032349,-0.490562
END:VEVENT
END:VCALENDAR