BEGIN:VCALENDAR
VERSION:2.0
PRODID:-//wp-events-plugin.com//6.6.5//EN
BEGIN:VEVENT
UID:1820@bedfordshirefreemasons.org
DTSTART:20260318T100000Z
DTEND:20260318T153000Z
DTSTAMP:20260123T120102Z
URL:https://www.bedfordshirefreemasons.org/events/bedfordshire-masonic-spo
 rts-association-golf-fixture/
SUMMARY:Bedfordshire Masonic Sports Association  - Golf Fixture
DESCRIPTION:Aylesbury Vale Golf Club - for more details contact colinbridge
 @mycortlands.co.uk
CATEGORIES:Masonic Golf,Social
LOCATION:Aylesbury Vale Golf Club\, Stewkley Road\, Leighton Buzzard\, LU7 
 0UJ\, United Kingdom
GEO:51.909848;-0.748522
X-APPLE-STRUCTURED-LOCATION;VALUE=URI;X-ADDRESS=Stewkley Road\, Leighton Bu
 zzard\, LU7 0UJ\, United Kingdom;X-APPLE-RADIUS=100;X-TITLE=Aylesbury Vale
  Golf Club:geo:51.909848,-0.748522
END:VEVENT
END:VCALENDAR