BEGIN:VCALENDAR
VERSION:2.0
PRODID:-//wp-events-plugin.com//6.6.5//EN
BEGIN:VEVENT
UID:1823@bedfordshirefreemasons.org
DTSTART:20260617T103000Z
DTEND:20260617T153000Z
DTSTAMP:20260126T104740Z
URL:https://www.bedfordshirefreemasons.org/events/bedfordshire-masonic-spo
 rts-association-golf-fixture-4/
SUMMARY:Bedfordshire Masonic Sports Association – Golf Fixture
DESCRIPTION:Knebworth Golf Club for more details contact colinbridge@mycor
 tlands.co.uk
CATEGORIES:Masonic Golf,Social
LOCATION:Knebworth Golf Club\, Deards End Lane\, Knebworth\, SG3 6NL\, Unit
 ed Kingdom
GEO:51.869856;-0.191091
X-APPLE-STRUCTURED-LOCATION;VALUE=URI;X-ADDRESS=Deards End Lane\, Knebworth
 \, SG3 6NL\, United Kingdom;X-APPLE-RADIUS=100;X-TITLE=Knebworth Golf Club
 :geo:51.869856,-0.191091
END:VEVENT
END:VCALENDAR