BEGIN:VCALENDAR
VERSION:2.0
PRODID:-//wp-events-plugin.com//6.6.5//EN
BEGIN:VEVENT
UID:1822@bedfordshirefreemasons.org
DTSTART:20260520T103000Z
DTEND:20260520T153000Z
DTSTAMP:20260123T122535Z
URL:https://www.bedfordshirefreemasons.org/events/bedfordshire-masonic-spo
 rts-association-golf-fixture-3/
SUMMARY:Bedfordshire Masonic Sports Association  - Golf Fixture
DESCRIPTION:Panshanger Golf Club for more details contact Colinbridge@myco
 rtlands.co.uk
CATEGORIES:Masonic Golf,Social
END:VEVENT
END:VCALENDAR